Workbook

Sheet 세입.세출 총괄표
A1: 2017년도 노원시각학습지원센터 변경 예산 세입세출 총괄표
A2: <세입. 세출 총괄> | N2: (단위 : 천원)
A3: 세 입 | H3: 세 출
A4: 관 | B4: 항 | C4: 목 | D4: 2017 당초예산(A) | E4: 2017 변경 예산(B) | F4: 증감(B-A) | H4: 관 | I4: 항 | J4: 목 | K4: 2017 당초예산(A) | L4: 2017 변경 예산(B) | M4: 증감(B-A)
F5: 금액 | G5: 비율(%) | M5: 금액 | N5: 비율(%)
A6: 계 | D6: =SUM(D8:D19) -> 752325.65 | E6: =SUM(E8:E19) -> 713957.94 | F6: =SUM(F8:F19) -> -38367.715 | G6: =F6/D6 -> -0.050998813 | H6: 계 | K6: =K8+K32+K38+K46 -> 752325.65 | L6: =L8+L32+L38+L46 -> 713957.94 | M6: =L6-K6 -> -38367.715 | N6: =M6/K6 -> -0.050998813
A8: 보조금 수입 | B8: 보조금 수입 | H8: 사무비 | K8: =K10+K22 -> 574358.45 | L8: =L10+L22 -> 541126.38 | M8: =L8-K8 -> -33232.07 | N8: =M8/K8 -> -0.05785946
C10: 보조금 수입 | D10: ='2017년 세입세출'!E7 -> 596857 | E10: ='2017년 세입세출'!H7 -> 596857 | F10: =E10-D10 -> 0 | G10: =F10/D10 -> 0 | I10: 인건비 | K10: =SUM(K12:K21) -> 571358.45 | L10: =SUM(L12:L21) -> 541107.9 | M10: =L10-K10 -> -30250.55 | N10: =M10/K10 -> -0.05294496
A12: 전입금 | B12: 전입금 | J12: 급여 | K12: ='2017년 세입세출'!E25+'2017년 세입세출'!E26 -> 381565.32 | L12: ='2017년 세입세출'!H25+'2017년 세입세출'!H26 -> 374306.31 | M12: =L12-K12 -> -7259.01 | N12: =M12/K12 -> -0.019024292
C14: 전입금 | D14: ='2017년 세입세출'!E10 -> 124998.51 | E14: ='2017년 세입세출'!H10 -> 86403.273 | F14: =E14-D14 -> -38595.237 | G14: =F14/D14 -> -0.30876558 | J14: 제수당 | K14: ='2017년 세입세출'!E30+'2017년 세입세출'!E31 -> 102509.8 | L14: ='2017년 세입세출'!H30+'2017년 세입세출'!H31 -> 82763.49 | M14: =L14-K14 -> -19746.31 | N14: =M14/K14 -> -0.19262851
A16: 전년도 이월금 | B16: 전년도 이월금 | C16: 전년도 이월금 | D16: ='2017년 세입세출'!E12 -> 30320.14 | E16: ='2017년 세입세출'!H12 -> 30547.662 | F16: =E16-D16 -> 227.522 | G16: =F16/D16 -> 0.0075039891 | J16: 퇴직 적립금 | K16: ='2017년 세입세출'!E49+'2017년 세입세출'!E52 -> 38115.55 | L16: ='2017년 세입세출'!H49+'2017년 세입세출'!H52 -> 37934.58 | M16: =L16-K16 -> -180.97 | N16: =M16/K16 -> -0.004747931
A18: 잡수입 | B18: 잡수입 | C18: 잡수입 | D18: ='2017년 세입세출'!E14 -> 150 | E18: ='2017년 세입세출'!H14 -> 150 | F18: =E18-D18 -> 0 | G18: =F18/D18 -> 0 | J18: 사회보험 부담비용 | K18: ='2017년 세입세출'!E54+'2017년 세입세출'!E56 -> 45683.78 | L18: ='2017년 세입세출'!H54+'2017년 세입세출'!H56 -> 42619.52 | M18: =L18-K18 -> -3064.26 | N18: =M18/K18 -> -0.067075448
J20: 기타 후생경비 | K20: ='2017년 세입세출'!E46+'2017년 세입세출'!E48 -> 3484 | L20: ='2017년 세입세출'!H46+'2017년 세입세출'!H48 -> 3484 | M20: =L20-K20 -> 0 | N20: =M20/K20 -> 0
I22: 운영비 | K22: =SUM(K24:K27) -> 3000 | L22: =SUM(L24:L27) -> 18.48 | M22: =L22-K22 -> -2981.52 | N22: =M22/K22 -> -0.99384
J24: 여비 | K24: ='2017년 세입세출'!E68 -> 120 | L24: ='2017년 세입세출'!H67+'2017년 세입세출'!H68 -> 0 | M24: =L24-K24 -> -120 | N24: =M24/K24 -> -1
J26: 수용비 및 수수료 | K26: ='2017년 세입세출'!E69+'2017년 세입세출'!E70 -> 2880 | L26: ='2017년 세입세출'!H69+'2017년 세입세출'!H70 -> 18.48 | M26: =L26-K26 -> -2861.52 | N26: =M26/K26 -> -0.99358333
A28: <세입. 세출 총괄> | N28: (단위 : 천원)
A29: 세 입 | H29: 세 출
A30: 관 | B30: 항 | C30: 목 | D30: 2017 당초예산(A) | E30: 2017 변경 예산(B) | F30: 증감(B-A) | H30: 관 | I30: 항 | J30: 목 | K30: 2017 당초예산(A) | L30: 2017 변경 예산(B) | M30: 증감(B-A)
F31: 금액 | G31: 비율(%) | M31: 금액 | N31: 비율(%)
H32: 재산조성비 | I32: 시설비 | K32: =SUM(K34:K37) -> 1600 | L32: =SUM(L34:L37) -> 0 | M32: =L32-K32 -> -1600 | N32: =M32/K32 -> -1
J34: 자산취득비 | K34: ='2017년 세입세출'!E80+'2017년 세입세출'!E81 -> 400 | L34: ='2017년 세입세출'!H80+'2017년 세입세출'!H81 -> 0 | M34: =L34-K34 -> -400 | N34: =M34/K34 -> -1
J36: 시설장비 유지보수비 | K36: ='2017년 세입세출'!E82+'2017년 세입세출'!E83 -> 1200 | L36: ='2017년 세입세출'!H82+'2017년 세입세출'!H83 -> 0 | M36: =L36-K36 -> -1200 | N36: =M36/K36 -> -1
H38: 사업비 | I38: 사업비 | K38: =SUM(K40+K42+K44) -> 156367.2 | L38: =SUM(L40+L42+L44) -> 152831.55 | M38: =L38-K38 -> -3535.645 | N38: =M38/K38 -> -0.022611168
J40: 화면해설서비스사업 | K40: ='2017년 세입세출'!E88+'2017년 세입세출'!E89 -> 102260 | L40: ='2017년 세입세출'!H88+'2017년 세입세출'!H89 -> 104248.38 | M40: =L40-K40 -> 1988.375 | N40: =M40/K40 -> 0.019444309
J42: 학습지원대체자료지원 서비스 | K42: ='2017년 세입세출'!E107+'2017년 세입세출'!E108 -> 24637.2 | L42: ='2017년 세입세출'!H107+'2017년 세입세출'!H108 -> 21068.08 | M42: =L42-K42 -> -3569.12 | N42: =M42/K42 -> -0.14486711
J44: 정보제공사업 | K44: ='2017년 세입세출'!E162+'2017년 세입세출'!E163 -> 29470 | L44: ='2017년 세입세출'!H162+'2017년 세입세출'!H163 -> 27515.1 | M44: =L44-K44 -> -1954.9 | N44: =M44/K44 -> -0.066335256
H46: 예비비 및 기타 | I46: 예비비 및 기타 | K46: =SUM(K47:K48) -> 20000 | L46: =SUM(L47:L48) -> 20000 | M46: =L46-K46 -> 0 | N46: =M46/K46 -> 0
J47: 예비비 | K47: ='2017년 세입세출'!E175 -> 20000 | L47: ='2017년 세입세출'!H175 -> 19923.86 | M47: =L47-K47 -> -76.14 | N47: =M47/K47 -> -0.003807
J48: 반환금 | K48: 0 | L48: ='2017년 세입세출'!H177 -> 76.14 | M48: =L48-K48 -> 76.14 | N48: =M48/K48 -> #DIV/0!

Sheet 2017년 세입세출
A1: 2017 노원시각학습지원센터 변경 예산서
A2: <세입> | K2: (단위 : 천원)
A3: 관 | B3: 항 | C3: 목 | D3: 세목 | E3: 당초보조금 | F3: 2017 당초 세부예산(A) | H3: 변경보조금 | I3: 2017 변경 세부예산(B) | K3: 증감 (B)-(A)
E4: 당초자부담 | H4: 변경자부담
A5: 계 | E5: =E7+E9+E13+E11 -> 596857 | G5: =G7 -> 596857000 | H5: =H7+H9+H13+H11 -> 596857 | J5: =J7 -> 596857000 | K5: =K7+K9+K13+K11 -> 0
E6: =E8+E10+E14+E12 -> 155468.65 | G6: =G9+G11+G13 -> 155468650 | H6: =H8+H10+H14+H12 -> 117100.93 | J6: =J9+J11+J13 -> 117100935 | K6: =K8+K10+K14+K12 -> -38367.715
A7: 보조금 수입 | B7: 보조금 수입 | C7: 보조금 수입 | E7: =G7/1000 -> 596857 | F7: 0 보조금수입 | G7: 596857000 | H7: =J7/1000 -> 596857 | I7: 0 보조금수입 | J7: 596857000 | K7: =E7-H7 -> 0
E8: 0 | H8: 0 | K8: =E8-H8 -> 0
A9: 전입금 | B9: 전입금 | C9: 전입금 | E9: 0 | F9: 0 법인전입금 | G9: 124998510 | H9: 0 | I9: 0 법인전입금 | J9: 86403273 | K9: =E9-H9 -> 0
E10: =G9/1000 -> 124998.51 | H10: =J9/1000 -> 86403.273 | K10: =H10-E10 -> -38595.237
A11: 이월금 | B11: 이월금 | C11: 이월금 | E11: 0 | F11: 0 전년도 이월금 | G11: 30320140 | H11: 0 | I11: 0 전년도 이월금 | J11: 30547662 | K11: =E11-H11 -> 0
E12: =G11/1000 -> 30320.14 | H12: =J11/1000 -> 30547.662 | K12: =H12-E12 -> 227.522
A13: 잡수입 | B13: 잡수입 | C13: 잡수입 | E13: 0 | F13: 0 잡수입 | G13: 150000 | H13: 0 | I13: 0 잡수입 | J13: 150000 | K13: =E13-H13 -> 0
E14: =G13/1000 -> 150 | H14: =J13/1000 -> 150 | K14: =H14-E14 -> 0
A16: <세출> | K16: (단위 : 천원)
A17: 관 | B17: 항 | C17: 목 | D17: 세목 | E17: 당초보조금 | F17: 2017 당초 세부예산(A) | H17: 변경보조금 | I17: 2017 변경 세부예산(B) | K17: 증감 (B)-(A)
E18: 당초자부담 | H18: 변경자부담
A19: 계 | E19: =SUM(E21,E65,E78,E84) -> 596857 | G19: =G21+G78+G84+G171 -> 596857000 | H19: =SUM(H21,H65,H78,H84) -> 596857 | J19: =J21+J78+J84+J171 -> 596857000 | K19: =SUM(K21,K65,K78,K84) -> -6336
E20: =SUM(E22,E79,E85,E171) -> 155468.65 | G20: =G22+G79+G85+G172 -> 155468650 | H20: =SUM(H22,H79,H85,H171) -> 117100.94 | J20: =J22+J79+J85+J172 -> 117100935 | K20: =SUM(K22,K79,K85,K171) -> -38367.715
A21: 사무비 | E21: =SUM(E23,E65) -> 494297 | G21: =G23+G65 -> 494297000 | H21: =SUM(H23,H65) -> 494297 | J21: =J23+J65 -> 494297000 | K21: =SUM(K23,K65) -> -1.0913936e-11
E22: =SUM(E24,E66) -> 80061.45 | G22: =G24+G66 -> 80061450 | H22: =SUM(H24,H66) -> 46829.38 | J22: =J24+J66 -> 46829380 | K22: =SUM(K24,K66) -> -33232.07
B23: 인건비 | E23: =SUM(E25,E30,E46,E49,E54) -> 494297 | G23: =SUM(G29,G41,G52,G63) -> 494297000 | H23: =SUM(H25,H30,H46,H49,H54) -> 494297 | J23: =SUM(J29,J41,J52,J63) -> 494297000 | K23: =SUM(K25,K30,K46,K49,K54) -> -1.0913936e-11
E24: =SUM(E26,E31,E48,E52,E56) -> 77061.45 | G24: =SUM(G42,G48,G53,G64) -> 77061450 | H24: =SUM(H26,H31,H48,H52,H56) -> 46810.9 | J24: =SUM(J42,J48,J53,J64) -> 46810900 | K24: =SUM(K26,K31,K48,K52,K56) -> -30250.55
C25: 급여 | E25: =G29/1000 -> 381565.32 | F25: 0 급여 | G25: 286174000 | H25: =J29/1000 -> 374306.31 | I25: 0 급여 | J25: 320834000 | K25: =H25-E25 -> -7259.01
F26: 0 기말수당 | G26: 95391320 | I26: 0 기말수당 | J26: 53472310 | K26: =H26-E26 -> 0
F29: 소계 | G29: =SUM(G25:G27) -> 381565320 | I29: 소계 | J29: =SUM(J25:J27) -> 374306310
C30: 제수당 | E30: =(G41)/1000 -> 48537.4 | F30: 0 가족수당 | G30: 4320000 | H30: =J41/1000 -> 52182 | I30: 0 가족수당 | J30: 4560000 | K30: =H30-E30 -> 3644.6
E31: =G42/1000 -> 53972.4 | F31: 0 명절휴가비 | G31: 28617400 | H31: =J42/1000 -> 30581.49 | I31: 0 명절휴가비 | J31: 32022000 | K31: =H31-E31 -> -23390.91
F32: 0 정액급식비 | G32: 15600000 | I32: 0 정액급식비 | J32: 15600000
F33: 0 직책수당 | G33: 7200000 | I33: 0 직책수당 | J33: 7200000
F34: 0 조정수당 | G34: 11923920 | I34: 0 조정수당 | J34: 13318500
F35: 0 여름휴가비 | G35: 3900000 | I35: 0 여름휴가비 | J35: 3900000
F36: 0 체력단련비 | G36: 3900000 | I36: 0 체력단련비 | J36: 3900000
F37: 0 특수업무수당 | G37: 360000 | I37: 0 특수업무수당 | J37: 360000
F38: 0 시간외수당 | G38: 26688480 | I38: 0 시간외수당 | J38: 1902990
F41: 소계 | G41: =+G30+G31+G32 -> 48537400 | I41: 소계 | J41: =+J30+J31+J32 -> 52182000
G42: =+G33+G34+G35+G36+G37+G38 -> 53972400 | J42: =+J33+J34+J35+J36+J37+J38 -> 30581490
A43: <세출> | K43: (단위 : 천원)
A44: 관 | B44: 항 | C44: 목 | D44: 세목 | E44: 당초보조금 | F44: 2017 당초 세부예산(A) | H44: 변경보조금 | I44: 2017 변경 세부예산(B) | K44: 증감 (B)-(A)
E45: 당초자부담 | H45: 변경자부담
C46: 기타후생 경비 | E46: 0 | F46: 0 팀운영비 | G46: 2340000 | H46: 0 | I46: 0 팀운영비 | J46: 2340000 | K46: =H46-E46 -> 0
F47: 0 직원선물비 | G47: 1144000 | I47: 0 직원선물비 | J47: 1144000
E48: =G48/1000 -> 3484 | F48: 소계 | G48: =SUM(G46:G47) -> 3484000 | H48: =J48/1000 -> 3484 | I48: 소계 | J48: =SUM(J46:J47) -> 3484000 | K48: =H48-E48 -> 0
C49: 퇴직 적립금 | E49: =G52/1000 -> 35841.89 | F49: 0 퇴직적립금 | G49: 35841890 | H49: =J52/1000 -> 35540.57 | I49: 0 퇴직적립금 | J49: 35540570 | K49: =H49-E49 -> -301.32
G50: 2273660 | J50: 2394010
E52: =G53/1000 -> 2273.66 | F52: 소계 | G52: =SUM(G49) -> 35841890 | H52: =J53/1000 -> 2394.01 | I52: 소계 | J52: =SUM(J49) -> 35540570 | K52: =H52-E52 -> 120.35
G53: =G51+G50 -> 2273660 | J53: =J51+J50 -> 2394010
C54: 사회보험 부담비용 | E54: =G63/1000 -> 28352.39 | F54: 0 건강보험료 | G54: 13440710 | H54: =J63/1000 -> 32268.12 | I54: 0 건강보험료 | J54: 12614150 | K54: =H54-E54 -> 3915.73
F55: 0 국민연금부담금 | G55: 4748350 | I55: 0 국민연금부담금 | J55: 13707200
E56: =G64/1000 -> 17331.39 | F56: 0 고용보험부담금 | G56: 5591340 | H56: =J64/1000 -> 10351.4 | I56: 0 고용보험부담금 | J56: 4509840 | K56: =H56-E56 -> -6979.99
F57: 0 산재보험부담금 | G57: 4571990 | I57: 0 산재보험부담금 | J57: 1436930
F59: 0 건강보험료 | G59: 852620 | I59: 0 건강보험료 | J59: 1778450
F60: 0 국민연금부담금 | G60: 15834050 | I60: 0 국민연금부담금 | J60: 4881020
F61: 0 고용보험부담금 | G61: 354690 | I61: 0 고용보험부담금 | J61: 2741840
F62: 0 산재보험부담금 | G62: 290030 | I62: 0 산재보험부담금 | J62: 950090
F63: 소계 | G63: =SUM(G54:G57) -> 28352390 | I63: 소계 | J63: =SUM(J54:J57) -> 32268120
G64: =SUM(G59:G62) -> 17331390 | J64: =SUM(J59:J62) -> 10351400
B65: 운영비 | E65: =E67+E69 -> 0 | H65: =H67+H69 -> 0 | K65: =K67+K69 -> 0
E66: =+E68+E70 -> 3000 | G66: =G68+G74 -> 3000000 | H66: =+H68+H70 -> 18.48 | J66: =J68+J74 -> 18480 | K66: =+K68+K70 -> -2981.52
C67: 여비 | E67: 0 | F67: 0 국내여비 | G67: 120000 | H67: 0 | I67: 0 국내여비 | J67: 0 | K67: =H67-E67 -> 0
E68: =G68/1000 -> 120 | F68: 소계 | G68: =G67 -> 120000 | H68: =J68/1000 -> 0 | I68: 소계 | J68: =J67 -> 0 | K68: =H68-E68 -> -120
C69: 수용비및 수수료 | E69: 0 | F69: 0 사무용품구입비 | G69: 1200000 | H69: 0 | I69: 0 사무용품구입비 | J69: 0 | K69: =H69-E69 -> 0
E70: =G74/1000 -> 2880 | F70: 0 인쇄비 | G70: 240000 | H70: =J74/1000 -> 18.48 | I70: 0 인쇄비 | J70: 18480 | K70: =H70-E70 -> -2861.52
F71: 0 집기 및 소모품구입비 | G71: 600000 | I71: 0 집기 및 소모품구입비 | J71: 0
F72: 0 수수료 | G72: 240000 | I72: 0 수수료 | J72: 0
F73: 0 기타잡비 | G73: 600000 | I73: 0 기타잡비 | J73: 0
F74: 소계 | G74: =SUM(G69:G73) -> 2880000 | I74: 소계 | J74: =SUM(J69:J73) -> 18480
A75: <세출> | K75: (단위 : 천원)
A76: 관 | B76: 항 | C76: 목 | D76: 세목 | E76: 당초보조금 | F76: 2017 당초 세부예산(A) | H76: 변경보조금 | I76: 2017 변경 세부예산(B) | K76: 증감 (B)-(A)
E77: 당초자부담 | H77: 변경자부담
A78: 재산 조성비 | B78: 시설비 | E78: =E80+E82 -> 0 | H78: =H80+H82 -> 0 | K78: =K80+K82 -> 0
E79: =E81+E83 -> 1600 | G79: =G81+G83 -> 1600000 | H79: =H81+H83 -> 0 | J79: =J81+J83 -> 0 | K79: =K81+K83 -> -1600
C80: 자산 취득비 | E80: 0 | F80: 0 비품구입비 | G80: 400000 | H80: 0 | I80: 0 비품구입비 | J80: 0 | K80: =H80-E80 -> 0
E81: =G81/1000 -> 400 | F81: 소계 | G81: =SUM(G80) -> 400000 | H81: =J81/1000 -> 0 | I81: 소계 | J81: =SUM(J80) -> 0 | K81: =H81-E81 -> -400
C82: 시설장비 유지 보수비 | F82: 0 프로그램유지보수비 | G82: 1200000 | I82: 0 프로그램유지보수비 | J82: 0 | K82: =H82-E82 -> 0
E83: =G83/1000 -> 1200 | F83: 소계 | G83: =G82 -> 1200000 | H83: =J83/1000 -> 0 | I83: 소계 | J83: =J82 -> 0 | K83: =H83-E83 -> -1200
A84: 사업비 | E84: =E86 -> 102560 | G84: =G86 -> 102560000 | H84: =H86 -> 102560 | J84: =J86 -> 102560000 | K84: =K86 -> -6336
E85: =E87 -> 53807.2 | G85: =G87 -> 53807200 | H85: =H87 -> 50271.555 | J85: =J87 -> 50271555 | K85: =K87 -> -3535.645
B86: 사업비 | E86: =E88+E107+E162 -> 102560 | G86: =G88+G107+G162 -> 102560000 | H86: =H88+H107+H162 -> 102560 | J86: =J88+J107+J162 -> 102560000 | K86: =K88+K107+K162 -> -6336
E87: =E89+E108+E163 -> 53807.2 | G87: =G89+G108+G163 -> 53807200 | H87: =H89+H108+H163 -> 50271.555 | J87: =J89+J108+J163 -> 50271555 | K87: =K89+K108+K163 -> -3535.645
C88: 화면해설서비스 사업 | E88: =E90+E101 -> 61153.8 | G88: =G96+G105 -> 61153800 | H88: =H90+H101 -> 61153.8 | J88: =J96+J105 -> 61153800 | K88: =K90+K101 -> 0
E89: =E104+E94 -> 41106.2 | G89: =G97+G106 -> 41106200 | H89: =H104+H94 -> 43094.575 | J89: =J97+J106 -> 43094575 | K89: =K104+K94 -> 1988.375
D90: 수능화면해설방송물제작 및 보급사업 | E90: =G96/1000 -> 46153.8 | F90: 0 대본비 | G90: 38000000 | H90: =J96/1000 -> 46153.8 | I90: 0 대본비 | J90: 38736920 | K90: =H90-E90 -> 0
F91: 0 감수비 | G91: 8153800 | J91: 8963080
G92: 15746200 | I92: 0 감수비 | J92: 5460000
F93: 0 더빙비 | G93: 14850000 | J93: 10500000
E94: =G97/1000 -> 31106.2 | F94: 0 사전제작회의비 | G94: 510000 | H94: =J97/1000 -> 33094.575 | I94: 0 더빙비 | J94: 1956880 | K94: =H94-E94 -> 1988.375
J95: 13631495
F96: 소계 | G96: =G90+G91 -> 46153800 | I96: 소계 | J96: =J90+J92+J94 -> 46153800
G97: =G92+G93+G94+G95 -> 31106200 | J97: =J91+J93+J95 -> 33094575
A98: <세출> | K98: (단위 : 천원)
A99: 관 | B99: 항 | C99: 목 | D99: 세목 | E99: 당초보조금 | F99: 2017 당초 세부예산(A) | H99: 변경보조금 | I99: 2017 변경 세부예산(B) | K99: 증감 (B)-(A)
E100: 당초자부담 | H100: 변경자부담
D101: 화면해설 그림동화 오디오북 제작 및 보급사업 | E101: =G105/1000 -> 15000 | H101: =J105/1000 -> 15000 | I101: 0 해설대본작성비 | J101: 15000000 | K101: =H101-E101 -> 0
F102: 0 해설대본작성비 | G102: 15000000 | I102: 0 더빙비 | J102: 10000000
E104: =G106/1000 -> 10000 | F104: 0 더빙비 | G104: 10000000 | H104: =J106/1000 -> 10000 | K104: =H104-E104 -> 0
F105: 소계 | G105: =SUM(G101:G103) -> 15000000 | I105: 소계 | J105: =SUM(J101) -> 15000000
G106: =SUM(G104) -> 10000000 | J106: =SUM(J102) -> 10000000
C107: 학습지원대체자료서비스 | E107: =E109+E130+E139+E143+E147 -> 12366.2 | G107: =G137+G141+G145+G157+G125 -> 12366200 | H107: =H130+H139+H143+H147+H109 -> 16604 | J107: =J137+J141+J145+J157+J125 -> 16604000 | K107: =K130+K139+K143+K147 -> -2098.2
E108: =E114+E134+E141+E145+E155 -> 12271 | G108: =G158+G126+G138+G146 -> 12271000 | H108: =H134+H141+H145+H155+H114 -> 4464.08 | J108: =J158+J126+J138+J146 -> 4464080 | K108: =K134+K141+K145+K155+K114 -> -7806.92
...
